BEGIN:VCALENDAR
VERSION:2.0
PRODID:-//Tukios.com/
BEGIN:VEVENT
UID:c89406ce-94eb-47fc-98a1-0e7f9daf6c23@www.hodappfuneralhome.com
DTSTAMP:20260421T201724Z
DTSTART:20260514T173000Z
DTEND:20260514T203000Z
SUMMARY:Celebration of Life
DESCRIPTION:
URL:https://www.hodappfuneralhome.com/obituaries/carolyn-moore
LOCATION:O’Bannon Creek Golf Club O Bannon Creek Lane  Loveland OH 
	45140
GEO:39.2484544;-84.2234725
END:VEVENT
END:VCALENDAR