BEGIN:VCALENDAR
VERSION:2.0
PRODID:-//Tukios.com/
BEGIN:VEVENT
UID:f5faacb3-c0a7-46fc-8b4c-1040921d2bb9@www.hodappfuneralhome.com
DTSTAMP:20260421T201343Z
DTSTART:20260514T181500Z
DTEND:20260514T190000Z
SUMMARY:Gathering of Remembrance
DESCRIPTION:
URL:https://www.hodappfuneralhome.com/obituaries/carolyn-moore
LOCATION:O'Bannon Creek Golf Club 6842 Oakland Rd  Loveland OH 45140
GEO:39.2493221;-84.2151762
END:VEVENT
END:VCALENDAR