BEGIN:VCALENDAR
VERSION:2.0
PRODID:-//Tukios.com/
BEGIN:VEVENT
UID:2723bdfa-41f4-40e2-8357-2b7135f53dc0@www.hodappfuneralhome.com
DTSTAMP:20260425T230029Z
DTSTART:20260429T140000Z
DTEND:20260429T150000Z
SUMMARY:Visitation
DESCRIPTION:
URL:https://www.hodappfuneralhome.com/obituaries/connie-cocco-nee-creson
LOCATION:Hodapp Funeral Home 6041 Hamilton Avenue  Cincinnati OH 45224
GEO:39.2015601;-84.5481409
END:VEVENT
END:VCALENDAR