BEGIN:VCALENDAR
VERSION:2.0
PRODID:-//Tukios.com/
BEGIN:VEVENT
UID:a3aa1608-a3d1-495c-81c4-f5b631561648@www.hodappfuneralhome.com
DTSTAMP:20260425T230602Z
DTSTART:20260429T150000Z
DTEND:20260429T160000Z
SUMMARY:Funeral Service
DESCRIPTION:
URL:https://www.hodappfuneralhome.com/obituaries/connie-cocco-nee-creson
LOCATION:Hodapp Funeral Home 6041 Hamilton Avenue  Cincinnati OH 45224
GEO:39.2015601;-84.5481409
END:VEVENT
END:VCALENDAR