BEGIN:VCALENDAR
VERSION:2.0
PRODID:-//Tukios.com/
BEGIN:VEVENT
UID:77572831-c3e4-48fc-879e-8036d481770f@www.hodappfuneralhome.com
DTSTAMP:20260421T075718Z
DTSTART:20260420T210000Z
DTEND:20260420T230000Z
SUMMARY:Visitation
DESCRIPTION:
URL:https://www.hodappfuneralhome.com/obituaries/dorothy-compton-nee-rumpke
LOCATION:Hodapp Funeral Home 6041 Hamilton Avenue  Cincinnati OH 45224
GEO:39.2015601;-84.5481409
END:VEVENT
END:VCALENDAR