BEGIN:VCALENDAR
VERSION:2.0
PRODID:-//Tukios.com/
BEGIN:VEVENT
UID:44c8c0f8-4606-48fe-8e14-aa80e770a1fd@www.hodappfuneralhome.com
DTSTAMP:20260423T085320Z
DTSTART:20260421T140000Z
DTEND:20260421T150000Z
SUMMARY:Mass
DESCRIPTION:
URL:https://www.hodappfuneralhome.com/obituaries/dorothy-compton-nee-rumpke
LOCATION:Bernard of Clairvaux Church 7130 Harrison Avenue  Cincinnati OH 
	45247
GEO:39.2137715;-84.6754456
END:VEVENT
END:VCALENDAR