BEGIN:VCALENDAR
VERSION:2.0
PRODID:-//Tukios.com/
BEGIN:VEVENT
UID:5ea6885a-b496-4b36-b67a-23c300457871@www.hodappfuneralhome.com
DTSTAMP:20260420T204457Z
DTSTART:20260428T140000Z
DTEND:20260428T150000Z
SUMMARY:Memorial Gathering
DESCRIPTION:
URL:https://www.hodappfuneralhome.com/obituaries/ercie-brayton
LOCATION: 8815 Cincinnati Columbus Rd.  West Chester OH 45069
GEO:39.3257288;-84.3591358
END:VEVENT
END:VCALENDAR