BEGIN:VCALENDAR
VERSION:2.0
PRODID:-//Tukios.com/
BEGIN:VEVENT
UID:35d33f82-3385-449d-af6a-a2faca431149@www.hodappfuneralhome.com
DTSTAMP:20260420T204653Z
DTSTART:20260428T150000Z
DTEND:20260428T160000Z
SUMMARY:Memorial Service
DESCRIPTION:
URL:https://www.hodappfuneralhome.com/obituaries/ercie-brayton
LOCATION: 8815 Cincinnati Columbus Rd.  West Chester OH 45069
GEO:39.3257288;-84.3591358
END:VEVENT
END:VCALENDAR