BEGIN:VCALENDAR
VERSION:2.0
PRODID:-//Tukios.com/
BEGIN:VEVENT
UID:4562554e-3b1b-4661-a549-67a72f287caa@www.hodappfuneralhome.com
DTSTAMP:20260420T204642Z
DTSTART:20260428T163000Z
DTEND:20260428T173000Z
SUMMARY:Graveside Service
DESCRIPTION:
URL:https://www.hodappfuneralhome.com/obituaries/ercie-brayton
LOCATION:Miami Cemetery 6379 Corwin Ave  Waynesville OH 45068
GEO:39.5221973;-84.0715772
END:VEVENT
END:VCALENDAR