BEGIN:VCALENDAR
VERSION:2.0
PRODID:-//Tukios.com/
BEGIN:VEVENT
UID:ad4dea4b-d6db-4d9a-896b-15733408c33f@www.hodappfuneralhome.com
DTSTAMP:20260423T185201Z
DTSTART:20260613T150000Z
DTEND:20260613T160000Z
SUMMARY:Mass
DESCRIPTION:
URL:https://www.hodappfuneralhome.com/obituaries/harold-schuler
LOCATION:St. Clare’s Parish 6041 Hamilton Avenue  Cincinnati OH 45224
GEO:39.2015601;-84.5481409
END:VEVENT
END:VCALENDAR