BEGIN:VCALENDAR
VERSION:2.0
PRODID:-//Tukios.com/
BEGIN:VEVENT
UID:8267e5c8-f4bb-4c4d-a9b4-d61fb382910d@www.hodappfuneralhome.com
DTSTAMP:20260419T183008Z
DTSTART:20260423T140000Z
DTEND:20260423T160000Z
SUMMARY:Visitation
DESCRIPTION:
URL:https://www.hodappfuneralhome.com/obituaries/michael-anderson
LOCATION: 5165 Western Row Rd  Mason OH 45040
GEO:39.3358728;-84.3151271
END:VEVENT
END:VCALENDAR