BEGIN:VCALENDAR
VERSION:2.0
PRODID:-//Tukios.com/
BEGIN:VEVENT
UID:e7981cf9-0af2-4a24-ac49-b1369427e0fe@www.hodappfuneralhome.com
DTSTAMP:20260419T183348Z
DTSTART:20260423T160000Z
DTEND:20260423T170000Z
SUMMARY:Funeral Service
DESCRIPTION:
URL:https://www.hodappfuneralhome.com/obituaries/michael-anderson
LOCATION: 5165 Western Row Rd  Mason OH 45040
GEO:39.3358728;-84.3151271
END:VEVENT
END:VCALENDAR