BEGIN:VCALENDAR
VERSION:2.0
PRODID:-//Tukios.com/
BEGIN:VEVENT
UID:bde1f24d-10c2-4f67-a2c0-69defff25eec@www.hodappfuneralhome.com
DTSTAMP:20260421T171448Z
DTSTART:20260426T170000Z
DTEND:20260426T180000Z
SUMMARY:Visitation
DESCRIPTION:
URL:https://www.hodappfuneralhome.com/obituaries/patrick-doran
LOCATION:Hodapp Funeral Home 6041 Hamilton Avenue  Cincinnati OH 45224
GEO:39.2015601;-84.5481409
END:VEVENT
END:VCALENDAR