BEGIN:VCALENDAR
VERSION:2.0
PRODID:-//Tukios.com/
BEGIN:VEVENT
UID:d145fdf0-cb61-4370-bcfc-1ab7a983d321@www.hodappfuneralhome.com
DTSTAMP:20260421T171931Z
DTSTART:20260426T183000Z
DTEND:20260426T193000Z
SUMMARY:Funeral Service
DESCRIPTION:
URL:https://www.hodappfuneralhome.com/obituaries/patrick-doran
LOCATION:Hodapp Funeral Home 6041 Hamilton Avenue  Cincinnati OH 45224
GEO:39.2015601;-84.5481409
END:VEVENT
END:VCALENDAR