BEGIN:VCALENDAR
VERSION:2.0
PRODID:-//Tukios.com/
BEGIN:VEVENT
UID:e8812ca6-83d2-4e6f-b089-a5825f02c208@www.hodappfuneralhome.com
DTSTAMP:20260423T182350Z
DTSTART:20260427T200000Z
DTEND:20260427T223000Z
SUMMARY:Visitation
DESCRIPTION:
URL:https://www.hodappfuneralhome.com/obituaries/sr-loraine-peter-rsm
LOCATION:McAuley Convent 1768 Cedar Avenue  Cincinnati OH 45224
GEO:39.1994695;-84.5527907
END:VEVENT
END:VCALENDAR