BEGIN:VCALENDAR
VERSION:2.0
PRODID:-//Tukios.com/
BEGIN:VEVENT
UID:69726b9b-ffd7-4f87-b4f3-d8f22f621f5a@www.hodappfuneralhome.com
DTSTAMP:20260423T181848Z
DTSTART:20260428T140000Z
DTEND:20260428T150000Z
SUMMARY:Burial
DESCRIPTION:
URL:https://www.hodappfuneralhome.com/obituaries/sr-loraine-peter-rsm
LOCATION:new St. Joseph Cemetery 4500 Foley Road  Cincinnati OH 45238
GEO:39.1045697;-84.5994693
END:VEVENT
END:VCALENDAR