BEGIN:VCALENDAR
VERSION:2.0
PRODID:-//Tukios.com/
BEGIN:VEVENT
UID:f63294dc-d896-4b95-92ce-0548c10588b8@www.hodappfuneralhome.com
DTSTAMP:20260423T182421Z
DTSTART:20260427T223000Z
DTEND:20260427T233000Z
SUMMARY:Funeral Service
DESCRIPTION:
URL:https://www.hodappfuneralhome.com/obituaries/sr-loraine-peter-rsm
LOCATION:McAuley Convent 1768 Cedar Avenue  Cincinnati OH 45224
GEO:39.1994695;-84.5527907
END:VEVENT
END:VCALENDAR