BEGIN:VCALENDAR
VERSION:2.0
PRODID:-//Tukios.com/
BEGIN:VEVENT
UID:734f7d5b-9823-4adc-8d83-b08f77b18f8c@www.hodappfuneralhome.com
DTSTAMP:20260421T200732Z
DTSTART:20260424T140000Z
DTEND:20260424T160000Z
SUMMARY:Visitation
DESCRIPTION:
URL:https://www.hodappfuneralhome.com/obituaries/virginia-galvin
LOCATION: 6410 Cincinnati Dayton Rd.  Liberty Township OH 45044
GEO:39.3885194;-84.3710517
END:VEVENT
END:VCALENDAR