BEGIN:VCALENDAR
VERSION:2.0
PRODID:-//Tukios.com/
BEGIN:VEVENT
UID:2d142567-4a2b-49d4-83c3-31e91e43964a@www.hodappfuneralhome.com
DTSTAMP:20260421T200840Z
DTSTART:20260424T160000Z
DTEND:20260424T163000Z
SUMMARY:Funeral Service
DESCRIPTION:
URL:https://www.hodappfuneralhome.com/obituaries/virginia-galvin
LOCATION: 6410 Cincinnati Dayton Rd.  Liberty Township OH 45044
GEO:39.3885194;-84.3710517
END:VEVENT
END:VCALENDAR